BEGIN:VCALENDAR
VERSION:2.0
PRODID:-//FDP-Rheinberg - ECPv6.15.20//NONSGML v1.0//EN
CALSCALE:GREGORIAN
METHOD:PUBLISH
X-WR-CALNAME:FDP-Rheinberg
X-ORIGINAL-URL:https://fdp-rheinberg.de
X-WR-CALDESC:Veranstaltungen für FDP-Rheinberg
REFRESH-INTERVAL;VALUE=DURATION:PT1H
X-Robots-Tag:noindex
X-PUBLISHED-TTL:PT1H
BEGIN:VTIMEZONE
TZID:Europe/Berlin
BEGIN:DAYLIGHT
TZOFFSETFROM:+0100
TZOFFSETTO:+0200
TZNAME:CEST
DTSTART:20250330T010000
END:DAYLIGHT
BEGIN:STANDARD
TZOFFSETFROM:+0200
TZOFFSETTO:+0100
TZNAME:CET
DTSTART:20251026T010000
END:STANDARD
BEGIN:DAYLIGHT
TZOFFSETFROM:+0100
TZOFFSETTO:+0200
TZNAME:CEST
DTSTART:20260329T010000
END:DAYLIGHT
BEGIN:STANDARD
TZOFFSETFROM:+0200
TZOFFSETTO:+0100
TZNAME:CET
DTSTART:20261025T010000
END:STANDARD
BEGIN:DAYLIGHT
TZOFFSETFROM:+0100
TZOFFSETTO:+0200
TZNAME:CEST
DTSTART:20270328T010000
END:DAYLIGHT
BEGIN:STANDARD
TZOFFSETFROM:+0200
TZOFFSETTO:+0100
TZNAME:CET
DTSTART:20271031T010000
END:STANDARD
END:VTIMEZONE
BEGIN:VEVENT
DTSTART;TZID=Europe/Berlin:20260427T183000
DTEND;TZID=Europe/Berlin:20260427T203000
DTSTAMP:20260424T114414
CREATED:20260108T085320Z
LAST-MODIFIED:20260108T085320Z
UID:4316-1777314600-1777321800@fdp-rheinberg.de
SUMMARY:Fraktionssitzung
DESCRIPTION:
URL:https://fdp-rheinberg.de/event/fraktionssitzung-52/
LOCATION:Alte Kellnerei\, Innenwall 104\, Rheinberg\, NRW\, 47495\, Germany
END:VEVENT
BEGIN:VEVENT
DTSTART;TZID=Europe/Berlin:20260429T170000
DTEND;TZID=Europe/Berlin:20260429T170000
DTSTAMP:20260424T114414
CREATED:20230926T162458Z
LAST-MODIFIED:20260327T093638Z
UID:3984-1777482000-1777482000@fdp-rheinberg.de
SUMMARY:Bau und Planungsausschuss
DESCRIPTION:
URL:https://fdp-rheinberg.de/event/bau-und-planungsausschuss-5/
LOCATION:Stadthaus Raum 249\, Kirchplatz 10\, Rheinberg\, 47495
END:VEVENT
BEGIN:VEVENT
DTSTART;TZID=Europe/Berlin:20260505T170000
DTEND;TZID=Europe/Berlin:20260505T170000
DTSTAMP:20260424T114414
CREATED:20210810T140410Z
LAST-MODIFIED:20260327T093716Z
UID:3630-1778000400-1778000400@fdp-rheinberg.de
SUMMARY:Jugendhilfeausschuss
DESCRIPTION:
URL:https://fdp-rheinberg.de/event/jugendhilfeausschuss-7/
LOCATION:Stadthaus Raum 249\, Kirchplatz 10\, Rheinberg\, 47495
END:VEVENT
BEGIN:VEVENT
DTSTART;TZID=Europe/Berlin:20260506T170000
DTEND;TZID=Europe/Berlin:20260506T170000
DTSTAMP:20260424T114414
CREATED:20211005T165814Z
LAST-MODIFIED:20260327T093811Z
UID:3673-1778086800-1778086800@fdp-rheinberg.de
SUMMARY:Betriebsausschuss
DESCRIPTION:
URL:https://fdp-rheinberg.de/event/betriebsausschuss-4/
LOCATION:DLB\, Bahnhofstraße 160\, Rheinberg\, 47495\, Deutschland
END:VEVENT
BEGIN:VEVENT
DTSTART;TZID=Europe/Berlin:20260512T170000
DTEND;TZID=Europe/Berlin:20260512T170000
DTSTAMP:20260424T114414
CREATED:20210316T100858Z
LAST-MODIFIED:20260327T093840Z
UID:3510-1778605200-1778605200@fdp-rheinberg.de
SUMMARY:Ausschuss für Soziales Familien und Senioren
DESCRIPTION:
URL:https://fdp-rheinberg.de/event/ausschuss-fuer-soziales-und-senioren/
LOCATION:Stadthaus Raum 249\, Kirchplatz 10\, Rheinberg\, 47495
END:VEVENT
BEGIN:VEVENT
DTSTART;TZID=Europe/Berlin:20260519T170000
DTEND;TZID=Europe/Berlin:20260519T170000
DTSTAMP:20260424T114414
CREATED:20150205T103919Z
LAST-MODIFIED:20260327T093921Z
UID:870-1779210000-1779210000@fdp-rheinberg.de
SUMMARY:Schulausschuss
DESCRIPTION:
URL:https://fdp-rheinberg.de/event/sitzung-schulausschuss/
LOCATION:Stadthaus Raum 249\, Kirchplatz 10\, Rheinberg\, 47495
END:VEVENT
BEGIN:VEVENT
DTSTART;TZID=Europe/Berlin:20260520T170000
DTEND;TZID=Europe/Berlin:20260520T170000
DTSTAMP:20260424T114414
CREATED:20211005T170132Z
LAST-MODIFIED:20260327T093956Z
UID:3677-1779296400-1779296400@fdp-rheinberg.de
SUMMARY:Sportausschuss
DESCRIPTION:
URL:https://fdp-rheinberg.de/event/sportausschuss-5/
LOCATION:Stadthaus Raum 249\, Kirchplatz 10\, Rheinberg\, 47495
END:VEVENT
BEGIN:VEVENT
DTSTART;TZID=Europe/Berlin:20260609T170000
DTEND;TZID=Europe/Berlin:20260609T170000
DTSTAMP:20260424T114414
CREATED:20260108T083531Z
LAST-MODIFIED:20260327T094101Z
UID:4294-1781024400-1781024400@fdp-rheinberg.de
SUMMARY:Ausschuss für Wirtschaft\, Tourismus und Kultur
DESCRIPTION:
URL:https://fdp-rheinberg.de/event/ausschuss-fuer-wirtschaft-tourismus-und-kultur/
LOCATION:Stadthaus Raum 249\, Kirchplatz 10\, Rheinberg\, 47495
END:VEVENT
BEGIN:VEVENT
DTSTART;TZID=Europe/Berlin:20260616T170000
DTEND;TZID=Europe/Berlin:20260616T170000
DTSTAMP:20260424T114414
CREATED:20220308T160036Z
LAST-MODIFIED:20260327T094132Z
UID:1874-1781629200-1781629200@fdp-rheinberg.de
SUMMARY:Bau und Planungsausschuss
DESCRIPTION:
URL:https://fdp-rheinberg.de/event/bau-und-planungsausschuss-2/
LOCATION:Stadthaus Raum 249\, Kirchplatz 10\, Rheinberg\, 47495
END:VEVENT
BEGIN:VEVENT
DTSTART;TZID=Europe/Berlin:20260623T170000
DTEND;TZID=Europe/Berlin:20260623T170000
DTSTAMP:20260424T114414
CREATED:20210316T101348Z
LAST-MODIFIED:20260327T094203Z
UID:3518-1782234000-1782234000@fdp-rheinberg.de
SUMMARY:Haupt-\, Finanz- und Personalausschuss
DESCRIPTION:
URL:https://fdp-rheinberg.de/event/haupt-finanz-und-personalausschuss-2/
LOCATION:Stadthalle Rheinberg\, Kirchplatz 10\, Rheinberg\, NRW\, 47495\, Deutschland
END:VEVENT
BEGIN:VEVENT
DTSTART;TZID=Europe/Berlin:20260630T170000
DTEND;TZID=Europe/Berlin:20260630T170000
DTSTAMP:20260424T114414
CREATED:20170831T153205Z
LAST-MODIFIED:20260327T094346Z
UID:1878-1782838800-1782838800@fdp-rheinberg.de
SUMMARY:Stadtentwicklung\, Umwelt\, Landwirtschaft und Mobilität
DESCRIPTION:
URL:https://fdp-rheinberg.de/event/stadtentwicklung-umweltausschuss/
LOCATION:Stadthaus Raum 249\, Kirchplatz 10\, Rheinberg\, 47495
END:VEVENT
BEGIN:VEVENT
DTSTART;TZID=Europe/Berlin:20260707T170000
DTEND;TZID=Europe/Berlin:20260707T170000
DTSTAMP:20260424T114414
CREATED:20250903T110200Z
LAST-MODIFIED:20260327T094416Z
UID:4272-1783443600-1783443600@fdp-rheinberg.de
SUMMARY:Ratssitzung
DESCRIPTION:
URL:https://fdp-rheinberg.de/event/ratssitzung-5/
LOCATION:Stadthalle Rheinberg\, Kirchplatz 10\, Rheinberg\, NRW\, 47495\, Deutschland
END:VEVENT
END:VCALENDAR