BEGIN:VCALENDAR
VERSION:2.0
PRODID:-//FDP-Rheinberg - ECPv6.15.20//NONSGML v1.0//EN
CALSCALE:GREGORIAN
METHOD:PUBLISH
X-ORIGINAL-URL:https://fdp-rheinberg.de
X-WR-CALDESC:Veranstaltungen für FDP-Rheinberg
REFRESH-INTERVAL;VALUE=DURATION:PT1H
X-Robots-Tag:noindex
X-PUBLISHED-TTL:PT1H
BEGIN:VTIMEZONE
TZID:Europe/Berlin
BEGIN:DAYLIGHT
TZOFFSETFROM:+0100
TZOFFSETTO:+0200
TZNAME:CEST
DTSTART:20250330T010000
END:DAYLIGHT
BEGIN:STANDARD
TZOFFSETFROM:+0200
TZOFFSETTO:+0100
TZNAME:CET
DTSTART:20251026T010000
END:STANDARD
BEGIN:DAYLIGHT
TZOFFSETFROM:+0100
TZOFFSETTO:+0200
TZNAME:CEST
DTSTART:20260329T010000
END:DAYLIGHT
BEGIN:STANDARD
TZOFFSETFROM:+0200
TZOFFSETTO:+0100
TZNAME:CET
DTSTART:20261025T010000
END:STANDARD
BEGIN:DAYLIGHT
TZOFFSETFROM:+0100
TZOFFSETTO:+0200
TZNAME:CEST
DTSTART:20270328T010000
END:DAYLIGHT
BEGIN:STANDARD
TZOFFSETFROM:+0200
TZOFFSETTO:+0100
TZNAME:CET
DTSTART:20271031T010000
END:STANDARD
END:VTIMEZONE
BEGIN:VEVENT
DTSTART;TZID=Europe/Berlin:20260630T170000
DTEND;TZID=Europe/Berlin:20260630T170000
DTSTAMP:20260424T133627
CREATED:20170831T153205Z
LAST-MODIFIED:20260327T094346Z
UID:1878-1782838800-1782838800@fdp-rheinberg.de
SUMMARY:Stadtentwicklung\, Umwelt\, Landwirtschaft und Mobilität
DESCRIPTION:
URL:https://fdp-rheinberg.de/event/stadtentwicklung-umweltausschuss/
LOCATION:Stadthaus Raum 249\, Kirchplatz 10\, Rheinberg\, 47495
END:VEVENT
BEGIN:VEVENT
DTSTART;TZID=Europe/Berlin:20260707T170000
DTEND;TZID=Europe/Berlin:20260707T170000
DTSTAMP:20260424T133627
CREATED:20250903T110200Z
LAST-MODIFIED:20260327T094416Z
UID:4272-1783443600-1783443600@fdp-rheinberg.de
SUMMARY:Ratssitzung
DESCRIPTION:
URL:https://fdp-rheinberg.de/event/ratssitzung-5/
LOCATION:Stadthalle Rheinberg\, Kirchplatz 10\, Rheinberg\, NRW\, 47495\, Deutschland
END:VEVENT
END:VCALENDAR