BEGIN:VCALENDAR
VERSION:2.0
PRODID:-//FDP-Rheinberg - ECPv6.15.20//NONSGML v1.0//EN
CALSCALE:GREGORIAN
METHOD:PUBLISH
X-ORIGINAL-URL:https://fdp-rheinberg.de
X-WR-CALDESC:Veranstaltungen für FDP-Rheinberg
REFRESH-INTERVAL;VALUE=DURATION:PT1H
X-Robots-Tag:noindex
X-PUBLISHED-TTL:PT1H
BEGIN:VTIMEZONE
TZID:Europe/Berlin
BEGIN:DAYLIGHT
TZOFFSETFROM:+0100
TZOFFSETTO:+0200
TZNAME:CEST
DTSTART:20230326T010000
END:DAYLIGHT
BEGIN:STANDARD
TZOFFSETFROM:+0200
TZOFFSETTO:+0100
TZNAME:CET
DTSTART:20231029T010000
END:STANDARD
BEGIN:DAYLIGHT
TZOFFSETFROM:+0100
TZOFFSETTO:+0200
TZNAME:CEST
DTSTART:20240331T010000
END:DAYLIGHT
BEGIN:STANDARD
TZOFFSETFROM:+0200
TZOFFSETTO:+0100
TZNAME:CET
DTSTART:20241027T010000
END:STANDARD
BEGIN:DAYLIGHT
TZOFFSETFROM:+0100
TZOFFSETTO:+0200
TZNAME:CEST
DTSTART:20250330T010000
END:DAYLIGHT
BEGIN:STANDARD
TZOFFSETFROM:+0200
TZOFFSETTO:+0100
TZNAME:CET
DTSTART:20251026T010000
END:STANDARD
END:VTIMEZONE
BEGIN:VEVENT
DTSTART;TZID=Europe/Berlin:20240919T183000
DTEND;TZID=Europe/Berlin:20240919T183000
DTSTAMP:20260425T224839
CREATED:20240904T104557Z
LAST-MODIFIED:20240904T104557Z
UID:4133-1726770600-1726770600@fdp-rheinberg.de
SUMMARY:Wahlkreisversammlung zur Aufstellung der Bewerberin/des Bewerbers für die Wahl zum 21.  Deutschen Bundestag für den Wahlkreis Wesel I (Nr. 112)
DESCRIPTION:Stimmberechtigt bei der Wahlkreisversammlung sind alle Mitglieder der FDP\, die am Tag des\nZusammentritts der Versammlung zur Bundestagswahl wahlberechtigt sind (wahlberechtigt sind\nalle Deutschen im Sinne von Art. 116 Abs. 1 des Grundgesetzes\, die das 18. Lebensjahr vollendet\nhaben\, nicht vom Wahlrecht ausgeschlossen sind und seit mindestens drei Monaten einen Wohnsitz\nin der Bundesrepublik Deutschland haben) und im Wahlkreis ihren Hauptwohnsitz haben. \nIm Anschluss an die Wahlkreisversammlung laden wir interessierte Mitglieder herzlich ab 19:30 Uhr\nzu einer mitgliederoffenen Kreisvorstandssitzung mit dem Schwerpunktthema „Kommunalwahl\n2025“ am selben Ort ein\, um sich gemeinsam zur Vorbereitung der Wahl auszutauschen. Die\nEinladung finden Sie ebenfalls anbei
URL:https://fdp-rheinberg.de/event/wahlkreisversammlung-zur-aufstellung-der-bewerberin-des-bewerbers-fuer-die-wahl-zum-21-deutschen-bundestag-fuer-den-wahlkreis-wesel-i-nr-112/
LOCATION:Hotel-Restaurant Wacht am Rhein\, Rheinallee 30\, Wesel\, NRW\, 46487\, Germany
END:VEVENT
END:VCALENDAR