BEGIN:VCALENDAR
VERSION:2.0
PRODID:-//FDP-Rheinberg - ECPv6.15.20//NONSGML v1.0//EN
CALSCALE:GREGORIAN
METHOD:PUBLISH
X-ORIGINAL-URL:https://fdp-rheinberg.de
X-WR-CALDESC:Veranstaltungen für FDP-Rheinberg
REFRESH-INTERVAL;VALUE=DURATION:PT1H
X-Robots-Tag:noindex
X-PUBLISHED-TTL:PT1H
BEGIN:VTIMEZONE
TZID:Europe/Berlin
BEGIN:DAYLIGHT
TZOFFSETFROM:+0100
TZOFFSETTO:+0200
TZNAME:CEST
DTSTART:20240331T010000
END:DAYLIGHT
BEGIN:STANDARD
TZOFFSETFROM:+0200
TZOFFSETTO:+0100
TZNAME:CET
DTSTART:20241027T010000
END:STANDARD
BEGIN:DAYLIGHT
TZOFFSETFROM:+0100
TZOFFSETTO:+0200
TZNAME:CEST
DTSTART:20250330T010000
END:DAYLIGHT
BEGIN:STANDARD
TZOFFSETFROM:+0200
TZOFFSETTO:+0100
TZNAME:CET
DTSTART:20251026T010000
END:STANDARD
BEGIN:DAYLIGHT
TZOFFSETFROM:+0100
TZOFFSETTO:+0200
TZNAME:CEST
DTSTART:20260329T010000
END:DAYLIGHT
BEGIN:STANDARD
TZOFFSETFROM:+0200
TZOFFSETTO:+0100
TZNAME:CET
DTSTART:20261025T010000
END:STANDARD
END:VTIMEZONE
BEGIN:VEVENT
DTSTART;TZID=Europe/Berlin:20250703T183000
DTEND;TZID=Europe/Berlin:20250703T193000
DTSTAMP:20260425T050440
CREATED:20250630T150614Z
LAST-MODIFIED:20250630T150614Z
UID:4222-1751567400-1751571000@fdp-rheinberg.de
SUMMARY:FDP Rheinberg lädt zu Vortrag mit Tobias Nagels
DESCRIPTION:FDP Rheinberg lädt zu Vortrag mit Tobias Nagels
URL:https://fdp-rheinberg.de/event/fdp-rheinberg-laedt-zu-vortrag-mit-tobias-nagels/
LOCATION:Zur Alten Apotheke\, Rheinberg\, Deutschland
ATTACH;FMTTYPE=image/jpeg:https://fdp-rheinberg.de/wp-content/uploads/2025/06/Nagels-30-06-2025.jpg
END:VEVENT
END:VCALENDAR