BEGIN:VCALENDAR
VERSION:2.0
PRODID:-//FDP-Rheinberg - ECPv6.15.20//NONSGML v1.0//EN
CALSCALE:GREGORIAN
METHOD:PUBLISH
X-WR-CALNAME:FDP-Rheinberg
X-ORIGINAL-URL:https://fdp-rheinberg.de
X-WR-CALDESC:Veranstaltungen für FDP-Rheinberg
REFRESH-INTERVAL;VALUE=DURATION:PT1H
X-Robots-Tag:noindex
X-PUBLISHED-TTL:PT1H
BEGIN:VTIMEZONE
TZID:Europe/Berlin
BEGIN:DAYLIGHT
TZOFFSETFROM:+0100
TZOFFSETTO:+0200
TZNAME:CEST
DTSTART:20240331T010000
END:DAYLIGHT
BEGIN:STANDARD
TZOFFSETFROM:+0200
TZOFFSETTO:+0100
TZNAME:CET
DTSTART:20241027T010000
END:STANDARD
BEGIN:DAYLIGHT
TZOFFSETFROM:+0100
TZOFFSETTO:+0200
TZNAME:CEST
DTSTART:20250330T010000
END:DAYLIGHT
BEGIN:STANDARD
TZOFFSETFROM:+0200
TZOFFSETTO:+0100
TZNAME:CET
DTSTART:20251026T010000
END:STANDARD
BEGIN:DAYLIGHT
TZOFFSETFROM:+0100
TZOFFSETTO:+0200
TZNAME:CEST
DTSTART:20260329T010000
END:DAYLIGHT
BEGIN:STANDARD
TZOFFSETFROM:+0200
TZOFFSETTO:+0100
TZNAME:CET
DTSTART:20261025T010000
END:STANDARD
END:VTIMEZONE
BEGIN:VEVENT
DTSTART;TZID=Europe/Berlin:20250901T190000
DTEND;TZID=Europe/Berlin:20250901T190000
DTSTAMP:20260425T012524
CREATED:20250814T150751Z
LAST-MODIFIED:20250814T152851Z
UID:4255-1756753200-1756753200@fdp-rheinberg.de
SUMMARY:Podiumsdiskussion Bürgermeister Kandidaten
DESCRIPTION:
URL:https://fdp-rheinberg.de/event/podiumsdiskussion-buergermeister-kandidaten-4/
LOCATION:Clubhaus Paullis\, Schlosstrasse\, Rheinberg\, NRW\, 47495\, Germany
END:VEVENT
BEGIN:VEVENT
DTSTART;TZID=Europe/Berlin:20250917T170000
DTEND;TZID=Europe/Berlin:20250917T170000
DTSTAMP:20260425T012524
CREATED:20250903T105734Z
LAST-MODIFIED:20250903T105734Z
UID:4266-1758128400-1758128400@fdp-rheinberg.de
SUMMARY:Wahlausschuss
DESCRIPTION:
URL:https://fdp-rheinberg.de/event/wahlausschuss-3/
LOCATION:Stadthaus Raum 249\, Kirchplatz 10\, Rheinberg\, 47495
END:VEVENT
BEGIN:VEVENT
DTSTART;TZID=Europe/Berlin:20250930T170000
DTEND;TZID=Europe/Berlin:20250930T170000
DTSTAMP:20260425T012524
CREATED:20250903T105915Z
LAST-MODIFIED:20250903T105915Z
UID:4268-1759251600-1759251600@fdp-rheinberg.de
SUMMARY:Friedhofskommission
DESCRIPTION:
URL:https://fdp-rheinberg.de/event/friedhofskommission-2/
LOCATION:Stadthaus Raum 144\, Kirchplatz 10\, Rheinberg\, NRW\, 47495\, Deutschland
END:VEVENT
END:VCALENDAR