BEGIN:VCALENDAR
VERSION:2.0
PRODID:-//FDP-Rheinberg - ECPv6.15.20//NONSGML v1.0//EN
CALSCALE:GREGORIAN
METHOD:PUBLISH
X-ORIGINAL-URL:https://fdp-rheinberg.de
X-WR-CALDESC:Veranstaltungen für FDP-Rheinberg
REFRESH-INTERVAL;VALUE=DURATION:PT1H
X-Robots-Tag:noindex
X-PUBLISHED-TTL:PT1H
BEGIN:VTIMEZONE
TZID:Europe/Berlin
BEGIN:DAYLIGHT
TZOFFSETFROM:+0100
TZOFFSETTO:+0200
TZNAME:CEST
DTSTART:20240331T010000
END:DAYLIGHT
BEGIN:STANDARD
TZOFFSETFROM:+0200
TZOFFSETTO:+0100
TZNAME:CET
DTSTART:20241027T010000
END:STANDARD
BEGIN:DAYLIGHT
TZOFFSETFROM:+0100
TZOFFSETTO:+0200
TZNAME:CEST
DTSTART:20250330T010000
END:DAYLIGHT
BEGIN:STANDARD
TZOFFSETFROM:+0200
TZOFFSETTO:+0100
TZNAME:CET
DTSTART:20251026T010000
END:STANDARD
BEGIN:DAYLIGHT
TZOFFSETFROM:+0100
TZOFFSETTO:+0200
TZNAME:CEST
DTSTART:20260329T010000
END:DAYLIGHT
BEGIN:STANDARD
TZOFFSETFROM:+0200
TZOFFSETTO:+0100
TZNAME:CET
DTSTART:20261025T010000
END:STANDARD
END:VTIMEZONE
BEGIN:VEVENT
DTSTART;TZID=Europe/Berlin:20251007T170000
DTEND;TZID=Europe/Berlin:20251007T170000
DTSTAMP:20260424T234742
CREATED:20201203T174517Z
LAST-MODIFIED:20250903T110026Z
UID:3405-1759856400-1759856400@fdp-rheinberg.de
SUMMARY:Ratssitzung
DESCRIPTION:
URL:https://fdp-rheinberg.de/event/ratssitzung-3/
LOCATION:Stadthalle Rheinberg\, Kirchplatz 10\, Rheinberg\, NRW\, 47495\, Deutschland
END:VEVENT
BEGIN:VEVENT
DTSTART;TZID=Europe/Berlin:20251008T170000
DTEND;TZID=Europe/Berlin:20251008T170000
DTSTAMP:20260424T234742
CREATED:20250903T110117Z
LAST-MODIFIED:20250903T110117Z
UID:4270-1759942800-1759942800@fdp-rheinberg.de
SUMMARY:Wahlausschuss
DESCRIPTION:
URL:https://fdp-rheinberg.de/event/wahlausschuss-4/
LOCATION:Stadthaus Raum 249\, Kirchplatz 10\, Rheinberg\, 47495
END:VEVENT
END:VCALENDAR