BEGIN:VCALENDAR
VERSION:2.0
PRODID:-//FDP-Rheinberg - ECPv6.15.20//NONSGML v1.0//EN
CALSCALE:GREGORIAN
METHOD:PUBLISH
X-WR-CALNAME:FDP-Rheinberg
X-ORIGINAL-URL:https://fdp-rheinberg.de
X-WR-CALDESC:Veranstaltungen für FDP-Rheinberg
REFRESH-INTERVAL;VALUE=DURATION:PT1H
X-Robots-Tag:noindex
X-PUBLISHED-TTL:PT1H
BEGIN:VTIMEZONE
TZID:Europe/Berlin
BEGIN:DAYLIGHT
TZOFFSETFROM:+0100
TZOFFSETTO:+0200
TZNAME:CEST
DTSTART:20250330T010000
END:DAYLIGHT
BEGIN:STANDARD
TZOFFSETFROM:+0200
TZOFFSETTO:+0100
TZNAME:CET
DTSTART:20251026T010000
END:STANDARD
BEGIN:DAYLIGHT
TZOFFSETFROM:+0100
TZOFFSETTO:+0200
TZNAME:CEST
DTSTART:20260329T010000
END:DAYLIGHT
BEGIN:STANDARD
TZOFFSETFROM:+0200
TZOFFSETTO:+0100
TZNAME:CET
DTSTART:20261025T010000
END:STANDARD
BEGIN:DAYLIGHT
TZOFFSETFROM:+0100
TZOFFSETTO:+0200
TZNAME:CEST
DTSTART:20270328T010000
END:DAYLIGHT
BEGIN:STANDARD
TZOFFSETFROM:+0200
TZOFFSETTO:+0100
TZNAME:CET
DTSTART:20271031T010000
END:STANDARD
END:VTIMEZONE
BEGIN:VEVENT
DTSTART;TZID=Europe/Berlin:20260112T183000
DTEND;TZID=Europe/Berlin:20260112T203000
DTSTAMP:20260424T183156
CREATED:20260108T084508Z
LAST-MODIFIED:20260108T084508Z
UID:4296-1768242600-1768249800@fdp-rheinberg.de
SUMMARY:Fraktionssitzung
DESCRIPTION:
URL:https://fdp-rheinberg.de/event/fraktionssitzung-43/
LOCATION:Alte Kellnerei\, Innenwall 104\, Rheinberg\, NRW\, 47495\, Germany
END:VEVENT
BEGIN:VEVENT
DTSTART;TZID=Europe/Berlin:20260119T183000
DTEND;TZID=Europe/Berlin:20260119T203000
DTSTAMP:20260424T183156
CREATED:20260108T084706Z
LAST-MODIFIED:20260108T084706Z
UID:4299-1768847400-1768854600@fdp-rheinberg.de
SUMMARY:Fraktionssitzung
DESCRIPTION:
URL:https://fdp-rheinberg.de/event/fraktionssitzung-44/
LOCATION:Alte Kellnerei\, Innenwall 104\, Rheinberg\, NRW\, 47495\, Germany
END:VEVENT
END:VCALENDAR