BEGIN:VCALENDAR
VERSION:2.0
PRODID:-//FDP-Rheinberg - ECPv6.15.20//NONSGML v1.0//EN
CALSCALE:GREGORIAN
METHOD:PUBLISH
X-WR-CALNAME:FDP-Rheinberg
X-ORIGINAL-URL:https://fdp-rheinberg.de
X-WR-CALDESC:Veranstaltungen für FDP-Rheinberg
REFRESH-INTERVAL;VALUE=DURATION:PT1H
X-Robots-Tag:noindex
X-PUBLISHED-TTL:PT1H
BEGIN:VTIMEZONE
TZID:Europe/Berlin
BEGIN:DAYLIGHT
TZOFFSETFROM:+0100
TZOFFSETTO:+0200
TZNAME:CEST
DTSTART:20250330T010000
END:DAYLIGHT
BEGIN:STANDARD
TZOFFSETFROM:+0200
TZOFFSETTO:+0100
TZNAME:CET
DTSTART:20251026T010000
END:STANDARD
BEGIN:DAYLIGHT
TZOFFSETFROM:+0100
TZOFFSETTO:+0200
TZNAME:CEST
DTSTART:20260329T010000
END:DAYLIGHT
BEGIN:STANDARD
TZOFFSETFROM:+0200
TZOFFSETTO:+0100
TZNAME:CET
DTSTART:20261025T010000
END:STANDARD
BEGIN:DAYLIGHT
TZOFFSETFROM:+0100
TZOFFSETTO:+0200
TZNAME:CEST
DTSTART:20270328T010000
END:DAYLIGHT
BEGIN:STANDARD
TZOFFSETFROM:+0200
TZOFFSETTO:+0100
TZNAME:CET
DTSTART:20271031T010000
END:STANDARD
END:VTIMEZONE
BEGIN:VEVENT
DTSTART;TZID=Europe/Berlin:20260302T183000
DTEND;TZID=Europe/Berlin:20260302T203000
DTSTAMP:20260424T151514
CREATED:20260108T085016Z
LAST-MODIFIED:20260108T085016Z
UID:4308-1772476200-1772483400@fdp-rheinberg.de
SUMMARY:Fraktionssitzung
DESCRIPTION:
URL:https://fdp-rheinberg.de/event/fraktionssitzung-48/
LOCATION:Alte Kellnerei\, Innenwall 104\, Rheinberg\, NRW\, 47495\, Germany
END:VEVENT
BEGIN:VEVENT
DTSTART;TZID=Europe/Berlin:20260305T170000
DTEND;TZID=Europe/Berlin:20260305T170000
DTSTAMP:20260424T151514
CREATED:20211125T170128Z
LAST-MODIFIED:20260108T083902Z
UID:3712-1772730000-1772730000@fdp-rheinberg.de
SUMMARY:Rechnungsprüfungsausschuss
DESCRIPTION:
URL:https://fdp-rheinberg.de/event/rechnungspruefungsausschuss-4/
LOCATION:Mehrzweckraum\, Stadthaus\, Rheinberg\, 47495\, Deutschland
END:VEVENT
BEGIN:VEVENT
DTSTART;TZID=Europe/Berlin:20260309T183000
DTEND;TZID=Europe/Berlin:20260309T203000
DTSTAMP:20260424T151514
CREATED:20260108T085136Z
LAST-MODIFIED:20260108T085136Z
UID:4310-1773081000-1773088200@fdp-rheinberg.de
SUMMARY:Fraktionssitzung
DESCRIPTION:
URL:https://fdp-rheinberg.de/event/fraktionssitzung-49/
LOCATION:Alte Kellnerei\, Innenwall 104\, Rheinberg\, NRW\, 47495\, Germany
END:VEVENT
BEGIN:VEVENT
DTSTART;TZID=Europe/Berlin:20260323T183000
DTEND;TZID=Europe/Berlin:20260323T203000
DTSTAMP:20260424T151514
CREATED:20260108T085212Z
LAST-MODIFIED:20260108T085212Z
UID:4312-1774290600-1774297800@fdp-rheinberg.de
SUMMARY:Fraktionssitzung
DESCRIPTION:
URL:https://fdp-rheinberg.de/event/fraktionssitzung-50/
LOCATION:Alte Kellnerei\, Innenwall 104\, Rheinberg\, NRW\, 47495\, Germany
END:VEVENT
END:VCALENDAR